BEGIN:VCALENDAR
VERSION:2.0
PRODID:-//St. Mariä Himmelfahrt  - ECPv6.15.20//NONSGML v1.0//EN
CALSCALE:GREGORIAN
METHOD:PUBLISH
X-ORIGINAL-URL:https://kirchengemeinde-marienthal.de
X-WR-CALDESC:Veranstaltungen für St. Mariä Himmelfahrt 
REFRESH-INTERVAL;VALUE=DURATION:PT1H
X-Robots-Tag:noindex
X-PUBLISHED-TTL:PT1H
BEGIN:VTIMEZONE
TZID:Europe/Berlin
BEGIN:DAYLIGHT
TZOFFSETFROM:+0100
TZOFFSETTO:+0200
TZNAME:CEST
DTSTART:20240331T010000
END:DAYLIGHT
BEGIN:STANDARD
TZOFFSETFROM:+0200
TZOFFSETTO:+0100
TZNAME:CET
DTSTART:20241027T010000
END:STANDARD
BEGIN:DAYLIGHT
TZOFFSETFROM:+0100
TZOFFSETTO:+0200
TZNAME:CEST
DTSTART:20250330T010000
END:DAYLIGHT
BEGIN:STANDARD
TZOFFSETFROM:+0200
TZOFFSETTO:+0100
TZNAME:CET
DTSTART:20251026T010000
END:STANDARD
BEGIN:DAYLIGHT
TZOFFSETFROM:+0100
TZOFFSETTO:+0200
TZNAME:CEST
DTSTART:20260329T010000
END:DAYLIGHT
BEGIN:STANDARD
TZOFFSETFROM:+0200
TZOFFSETTO:+0100
TZNAME:CET
DTSTART:20261025T010000
END:STANDARD
END:VTIMEZONE
BEGIN:VEVENT
DTSTART;TZID=Europe/Berlin:20250907T100000
DTEND;TZID=Europe/Berlin:20250907T110000
DTSTAMP:20260426T002026
CREATED:20250731T143631Z
LAST-MODIFIED:20250731T143631Z
UID:3405-1757239200-1757242800@kirchengemeinde-marienthal.de
SUMMARY:Gottesdienst im Syromalabarischen ("Indischem") Ritus mit P. Joshy George
DESCRIPTION:
URL:https://kirchengemeinde-marienthal.de/event/gottesdienst-im-syromalabarischen-indischem-ritus-mit-p-joshy-george/
LOCATION:Klosterkirche
ATTACH;FMTTYPE=image/png:https://kirchengemeinde-marienthal.de/wp-content/uploads/2025/07/2025-07-31-16_35_05-Bild-_-Graphik-Adobe-Acrobat-64-bit.png
END:VEVENT
END:VCALENDAR