BEGIN:VCALENDAR
VERSION:2.0
PRODID:-//St. Mariä Himmelfahrt  - ECPv6.15.20//NONSGML v1.0//EN
CALSCALE:GREGORIAN
METHOD:PUBLISH
X-WR-CALNAME:St. Mariä Himmelfahrt 
X-ORIGINAL-URL:https://kirchengemeinde-marienthal.de
X-WR-CALDESC:Veranstaltungen für St. Mariä Himmelfahrt 
REFRESH-INTERVAL;VALUE=DURATION:PT1H
X-Robots-Tag:noindex
X-PUBLISHED-TTL:PT1H
BEGIN:VTIMEZONE
TZID:Europe/Berlin
BEGIN:DAYLIGHT
TZOFFSETFROM:+0100
TZOFFSETTO:+0200
TZNAME:CEST
DTSTART:20240331T010000
END:DAYLIGHT
BEGIN:STANDARD
TZOFFSETFROM:+0200
TZOFFSETTO:+0100
TZNAME:CET
DTSTART:20241027T010000
END:STANDARD
BEGIN:DAYLIGHT
TZOFFSETFROM:+0100
TZOFFSETTO:+0200
TZNAME:CEST
DTSTART:20250330T010000
END:DAYLIGHT
BEGIN:STANDARD
TZOFFSETFROM:+0200
TZOFFSETTO:+0100
TZNAME:CET
DTSTART:20251026T010000
END:STANDARD
BEGIN:DAYLIGHT
TZOFFSETFROM:+0100
TZOFFSETTO:+0200
TZNAME:CEST
DTSTART:20260329T010000
END:DAYLIGHT
BEGIN:STANDARD
TZOFFSETFROM:+0200
TZOFFSETTO:+0100
TZNAME:CET
DTSTART:20261025T010000
END:STANDARD
END:VTIMEZONE
BEGIN:VEVENT
DTSTART;TZID=Europe/Berlin:20251101T100000
DTEND;TZID=Europe/Berlin:20251101T110000
DTSTAMP:20260425T220102
CREATED:20250928T095355Z
LAST-MODIFIED:20250928T095355Z
UID:3469-1761991200-1761994800@kirchengemeinde-marienthal.de
SUMMARY:Eucharistiefeier zum Fest Allerheiligen
DESCRIPTION:
URL:https://kirchengemeinde-marienthal.de/event/eucharistiefeier-zum-fest-allerheiligen-2/
LOCATION:Klosterkirche
CATEGORIES:Gottesdienste
END:VEVENT
BEGIN:VEVENT
DTSTART;TZID=Europe/Berlin:20251101T150000
DTEND;TZID=Europe/Berlin:20251101T160000
DTSTAMP:20260425T220102
CREATED:20250928T095622Z
LAST-MODIFIED:20250928T100444Z
UID:3471-1762009200-1762012800@kirchengemeinde-marienthal.de
SUMMARY:Gebet für die Verstorbenen und Segnung der Gräber auf dem Friedhof
DESCRIPTION:unter Mitwirkung des Kirchenchores
URL:https://kirchengemeinde-marienthal.de/event/gebet-fuer-die-verstorbenen-und-segnung-der-graeber-auf-dem-friedhof-unter-mitwirkung-des-kirchenchores/
LOCATION:Friedhof
CATEGORIES:Gottesdienste
END:VEVENT
END:VCALENDAR