BEGIN:VCALENDAR
VERSION:2.0
PRODID:-//St. Mariä Himmelfahrt  - ECPv6.15.20//NONSGML v1.0//EN
CALSCALE:GREGORIAN
METHOD:PUBLISH
X-WR-CALNAME:St. Mariä Himmelfahrt 
X-ORIGINAL-URL:https://kirchengemeinde-marienthal.de
X-WR-CALDESC:Veranstaltungen für St. Mariä Himmelfahrt 
REFRESH-INTERVAL;VALUE=DURATION:PT1H
X-Robots-Tag:noindex
X-PUBLISHED-TTL:PT1H
BEGIN:VTIMEZONE
TZID:Europe/Berlin
BEGIN:DAYLIGHT
TZOFFSETFROM:+0100
TZOFFSETTO:+0200
TZNAME:CEST
DTSTART:20240331T010000
END:DAYLIGHT
BEGIN:STANDARD
TZOFFSETFROM:+0200
TZOFFSETTO:+0100
TZNAME:CET
DTSTART:20241027T010000
END:STANDARD
BEGIN:DAYLIGHT
TZOFFSETFROM:+0100
TZOFFSETTO:+0200
TZNAME:CEST
DTSTART:20250330T010000
END:DAYLIGHT
BEGIN:STANDARD
TZOFFSETFROM:+0200
TZOFFSETTO:+0100
TZNAME:CET
DTSTART:20251026T010000
END:STANDARD
BEGIN:DAYLIGHT
TZOFFSETFROM:+0100
TZOFFSETTO:+0200
TZNAME:CEST
DTSTART:20260329T010000
END:DAYLIGHT
BEGIN:STANDARD
TZOFFSETFROM:+0200
TZOFFSETTO:+0100
TZNAME:CET
DTSTART:20261025T010000
END:STANDARD
END:VTIMEZONE
BEGIN:VEVENT
DTSTART;TZID=Europe/Berlin:20251212T150000
DTEND;TZID=Europe/Berlin:20251212T160000
DTSTAMP:20260425T204848
CREATED:20251129T131356Z
LAST-MODIFIED:20251129T131356Z
UID:3624-1765551600-1765555200@kirchengemeinde-marienthal.de
SUMMARY:Probe für das Krippenspiel
DESCRIPTION:
URL:https://kirchengemeinde-marienthal.de/event/probe-fuer-das-krippenspiel-6/
LOCATION:Klosterkirche
CATEGORIES:intern
END:VEVENT
BEGIN:VEVENT
DTSTART;TZID=Europe/Berlin:20251212T180000
DTEND;TZID=Europe/Berlin:20251212T190000
DTSTAMP:20260425T204848
CREATED:20251129T151642Z
LAST-MODIFIED:20251129T151642Z
UID:3658-1765562400-1765566000@kirchengemeinde-marienthal.de
SUMMARY:Brüner + Marienthaler Adventkalender
DESCRIPTION:Heimatverein Weselerwald und Umgebung e.V.\, \nan der „Düwelshütt“ (Wanderschutzhütte an der Ecke Malberger Str. /Am Teufelstein)
URL:https://kirchengemeinde-marienthal.de/event/bruener-marienthaler-adventkalender-2/
CATEGORIES:Veranstaltung
END:VEVENT
END:VCALENDAR