BEGIN:VCALENDAR
VERSION:2.0
PRODID:-//St. Mariä Himmelfahrt  - ECPv6.15.20//NONSGML v1.0//EN
CALSCALE:GREGORIAN
METHOD:PUBLISH
X-ORIGINAL-URL:https://kirchengemeinde-marienthal.de
X-WR-CALDESC:Veranstaltungen für St. Mariä Himmelfahrt 
REFRESH-INTERVAL;VALUE=DURATION:PT1H
X-Robots-Tag:noindex
X-PUBLISHED-TTL:PT1H
BEGIN:VTIMEZONE
TZID:Europe/Berlin
BEGIN:DAYLIGHT
TZOFFSETFROM:+0100
TZOFFSETTO:+0200
TZNAME:CEST
DTSTART:20240331T010000
END:DAYLIGHT
BEGIN:STANDARD
TZOFFSETFROM:+0200
TZOFFSETTO:+0100
TZNAME:CET
DTSTART:20241027T010000
END:STANDARD
BEGIN:DAYLIGHT
TZOFFSETFROM:+0100
TZOFFSETTO:+0200
TZNAME:CEST
DTSTART:20250330T010000
END:DAYLIGHT
BEGIN:STANDARD
TZOFFSETFROM:+0200
TZOFFSETTO:+0100
TZNAME:CET
DTSTART:20251026T010000
END:STANDARD
BEGIN:DAYLIGHT
TZOFFSETFROM:+0100
TZOFFSETTO:+0200
TZNAME:CEST
DTSTART:20260329T010000
END:DAYLIGHT
BEGIN:STANDARD
TZOFFSETFROM:+0200
TZOFFSETTO:+0100
TZNAME:CET
DTSTART:20261025T010000
END:STANDARD
END:VTIMEZONE
BEGIN:VEVENT
DTSTART;TZID=Europe/Berlin:20251213T100000
DTEND;TZID=Europe/Berlin:20251213T110000
DTSTAMP:20260425T203838
CREATED:20251129T153225Z
LAST-MODIFIED:20251129T155252Z
UID:3660-1765620000-1765623600@kirchengemeinde-marienthal.de
SUMMARY:Brüner + Marienthaler Adventskalender
DESCRIPTION:KinderKirche Brünen\, \nauf dem Brüner Bauernmarkt
URL:https://kirchengemeinde-marienthal.de/event/bruener-marienthaler-adventskalender-3/
CATEGORIES:Veranstaltung
END:VEVENT
BEGIN:VEVENT
DTSTART;TZID=Europe/Berlin:20251213T150000
DTEND;TZID=Europe/Berlin:20251213T190000
DTSTAMP:20260425T203838
CREATED:20251129T122045Z
LAST-MODIFIED:20251129T122045Z
UID:3580-1765638000-1765652400@kirchengemeinde-marienthal.de
SUMMARY:Advent auf dem Dorfe
DESCRIPTION:In diesem Jahr wird in Marienthal zum ersten Mal eine große Glühweinhütte auf dem Dorfplatz aufgebaut. Sie bietet auch Platz für Stehtische im Inneren. An jedem Adventswochenende wird die Hütte von einem anderen Verein/Kirchengremium betrieben. An diesem 3. Adventwochenende ist der Marienthaler Bürgerverein an der Reihe.
URL:https://kirchengemeinde-marienthal.de/event/advent-auf-dem-dorfe-4/
LOCATION:Dorfplatz Marienthal
ORGANIZER;CN="Marienthaler B%C3%BCrgerverein e.V.":MAILTO:info@marienthaler-buergerverein.de
END:VEVENT
END:VCALENDAR