BEGIN:VCALENDAR
VERSION:2.0
PRODID:-//St. Mariä Himmelfahrt  - ECPv6.15.20//NONSGML v1.0//EN
CALSCALE:GREGORIAN
METHOD:PUBLISH
X-WR-CALNAME:St. Mariä Himmelfahrt 
X-ORIGINAL-URL:https://kirchengemeinde-marienthal.de
X-WR-CALDESC:Veranstaltungen für St. Mariä Himmelfahrt 
REFRESH-INTERVAL;VALUE=DURATION:PT1H
X-Robots-Tag:noindex
X-PUBLISHED-TTL:PT1H
BEGIN:VTIMEZONE
TZID:Europe/Berlin
BEGIN:DAYLIGHT
TZOFFSETFROM:+0100
TZOFFSETTO:+0200
TZNAME:CEST
DTSTART:20240331T010000
END:DAYLIGHT
BEGIN:STANDARD
TZOFFSETFROM:+0200
TZOFFSETTO:+0100
TZNAME:CET
DTSTART:20241027T010000
END:STANDARD
BEGIN:DAYLIGHT
TZOFFSETFROM:+0100
TZOFFSETTO:+0200
TZNAME:CEST
DTSTART:20250330T010000
END:DAYLIGHT
BEGIN:STANDARD
TZOFFSETFROM:+0200
TZOFFSETTO:+0100
TZNAME:CET
DTSTART:20251026T010000
END:STANDARD
BEGIN:DAYLIGHT
TZOFFSETFROM:+0100
TZOFFSETTO:+0200
TZNAME:CEST
DTSTART:20260329T010000
END:DAYLIGHT
BEGIN:STANDARD
TZOFFSETFROM:+0200
TZOFFSETTO:+0100
TZNAME:CET
DTSTART:20261025T010000
END:STANDARD
END:VTIMEZONE
BEGIN:VEVENT
DTSTART;TZID=Europe/Berlin:20251214T100000
DTEND;TZID=Europe/Berlin:20251214T110000
DTSTAMP:20260425T204137
CREATED:20251129T124156Z
LAST-MODIFIED:20251129T125040Z
UID:3591-1765706400-1765710000@kirchengemeinde-marienthal.de
SUMMARY:Eucharistiefeier zum 3. Advent
DESCRIPTION:Am 14.12. wollen wir gemeinsam unseren neuen Pater Lorenz o.Carm in einem Einführungsgottesdienst willkommen heißen. Auch die neu gewählten Mitglieder des Kirchenvorstands sowie des Pfarreirates stellen sich kurz vor. \nNachdem Gottesdienst laden wir zu einem kleinen Umtrunk im Kreuz-gang ein. Wir freuen uns auf zahlreiche Besucher! \n 
URL:https://kirchengemeinde-marienthal.de/event/eucharistiefeier-zum-3-advent/
LOCATION:Klosterkirche
CATEGORIES:Gottesdienste
END:VEVENT
BEGIN:VEVENT
DTSTART;TZID=Europe/Berlin:20251214T150000
DTEND;TZID=Europe/Berlin:20251214T190000
DTSTAMP:20260425T204137
CREATED:20251129T122135Z
LAST-MODIFIED:20251129T122135Z
UID:3582-1765724400-1765738800@kirchengemeinde-marienthal.de
SUMMARY:Advent auf dem Dorfe
DESCRIPTION:In diesem Jahr wird in Marienthal zum ersten Mal eine große Glühweinhütte auf dem Dorfplatz aufgebaut. Sie bietet auch Platz für Stehtische im Inneren. An jedem Adventswochenende wird die Hütte von einem anderen Verein/Kirchengremium betrieben. An diesem 3. Adventwochenende ist der Marienthaler Bürgerverein an der Reihe.
URL:https://kirchengemeinde-marienthal.de/event/advent-auf-dem-dorfe-5/
LOCATION:Dorfplatz Marienthal
ORGANIZER;CN="Marienthaler B%C3%BCrgerverein e.V.":MAILTO:info@marienthaler-buergerverein.de
END:VEVENT
END:VCALENDAR