BEGIN:VCALENDAR
VERSION:2.0
PRODID:-//St. Mariä Himmelfahrt  - ECPv6.15.20//NONSGML v1.0//EN
CALSCALE:GREGORIAN
METHOD:PUBLISH
X-ORIGINAL-URL:https://kirchengemeinde-marienthal.de
X-WR-CALDESC:Veranstaltungen für St. Mariä Himmelfahrt 
REFRESH-INTERVAL;VALUE=DURATION:PT1H
X-Robots-Tag:noindex
X-PUBLISHED-TTL:PT1H
BEGIN:VTIMEZONE
TZID:Europe/Berlin
BEGIN:DAYLIGHT
TZOFFSETFROM:+0100
TZOFFSETTO:+0200
TZNAME:CEST
DTSTART:20240331T010000
END:DAYLIGHT
BEGIN:STANDARD
TZOFFSETFROM:+0200
TZOFFSETTO:+0100
TZNAME:CET
DTSTART:20241027T010000
END:STANDARD
BEGIN:DAYLIGHT
TZOFFSETFROM:+0100
TZOFFSETTO:+0200
TZNAME:CEST
DTSTART:20250330T010000
END:DAYLIGHT
BEGIN:STANDARD
TZOFFSETFROM:+0200
TZOFFSETTO:+0100
TZNAME:CET
DTSTART:20251026T010000
END:STANDARD
BEGIN:DAYLIGHT
TZOFFSETFROM:+0100
TZOFFSETTO:+0200
TZNAME:CEST
DTSTART:20260329T010000
END:DAYLIGHT
BEGIN:STANDARD
TZOFFSETFROM:+0200
TZOFFSETTO:+0100
TZNAME:CET
DTSTART:20261025T010000
END:STANDARD
END:VTIMEZONE
BEGIN:VEVENT
DTSTART;TZID=Europe/Berlin:20251224T160000
DTEND;TZID=Europe/Berlin:20251224T170000
DTSTAMP:20260425T203838
CREATED:20251129T125640Z
LAST-MODIFIED:20251129T125935Z
UID:3608-1766592000-1766595600@kirchengemeinde-marienthal.de
SUMMARY:Heiligabend
DESCRIPTION:Wortgottesdienst mit Krippenspiel
URL:https://kirchengemeinde-marienthal.de/event/heilgabend/
LOCATION:Klosterkirche
CATEGORIES:Gottesdienste
END:VEVENT
BEGIN:VEVENT
DTSTART;TZID=Europe/Berlin:20251224T190000
DTEND;TZID=Europe/Berlin:20251224T200000
DTSTAMP:20260425T203838
CREATED:20251129T125911Z
LAST-MODIFIED:20251129T130143Z
UID:3610-1766602800-1766606400@kirchengemeinde-marienthal.de
SUMMARY:Heiligabend
DESCRIPTION:Christmette
URL:https://kirchengemeinde-marienthal.de/event/christmette/
LOCATION:Klosterkirche
CATEGORIES:Gottesdienste
END:VEVENT
END:VCALENDAR