BEGIN:VCALENDAR
VERSION:2.0
PRODID:-//St. Mariä Himmelfahrt  - ECPv6.15.20//NONSGML v1.0//EN
CALSCALE:GREGORIAN
METHOD:PUBLISH
X-WR-CALNAME:St. Mariä Himmelfahrt 
X-ORIGINAL-URL:https://kirchengemeinde-marienthal.de
X-WR-CALDESC:Veranstaltungen für St. Mariä Himmelfahrt 
REFRESH-INTERVAL;VALUE=DURATION:PT1H
X-Robots-Tag:noindex
X-PUBLISHED-TTL:PT1H
BEGIN:VTIMEZONE
TZID:Europe/Berlin
BEGIN:DAYLIGHT
TZOFFSETFROM:+0100
TZOFFSETTO:+0200
TZNAME:CEST
DTSTART:20250330T010000
END:DAYLIGHT
BEGIN:STANDARD
TZOFFSETFROM:+0200
TZOFFSETTO:+0100
TZNAME:CET
DTSTART:20251026T010000
END:STANDARD
BEGIN:DAYLIGHT
TZOFFSETFROM:+0100
TZOFFSETTO:+0200
TZNAME:CEST
DTSTART:20260329T010000
END:DAYLIGHT
BEGIN:STANDARD
TZOFFSETFROM:+0200
TZOFFSETTO:+0100
TZNAME:CET
DTSTART:20261025T010000
END:STANDARD
BEGIN:DAYLIGHT
TZOFFSETFROM:+0100
TZOFFSETTO:+0200
TZNAME:CEST
DTSTART:20270328T010000
END:DAYLIGHT
BEGIN:STANDARD
TZOFFSETFROM:+0200
TZOFFSETTO:+0100
TZNAME:CET
DTSTART:20271031T010000
END:STANDARD
END:VTIMEZONE
BEGIN:VEVENT
DTSTART;TZID=Europe/Berlin:20260213T191100
DTEND;TZID=Europe/Berlin:20260213T230000
DTSTAMP:20260425T181419
CREATED:20260126T182811Z
LAST-MODIFIED:20260208T185821Z
UID:3781-1771009860-1771023600@kirchengemeinde-marienthal.de
SUMMARY:"Wej bünt wä doa" - Karneval am Isselstrand - ENTFÄLLT!
DESCRIPTION:Aufgrund eines Todesfalls fallen die geplanten Karnevalsveranstaltungen aus.
URL:https://kirchengemeinde-marienthal.de/event/wej-buent-wae-doa-karneval-am-isselstrand-2/
LOCATION:Pfarrheim
CATEGORIES:Veranstaltung
END:VEVENT
END:VCALENDAR