BEGIN:VCALENDAR
VERSION:2.0
PRODID:-//St. Mariä Himmelfahrt  - ECPv6.15.20//NONSGML v1.0//EN
CALSCALE:GREGORIAN
METHOD:PUBLISH
X-WR-CALNAME:St. Mariä Himmelfahrt 
X-ORIGINAL-URL:https://kirchengemeinde-marienthal.de
X-WR-CALDESC:Veranstaltungen für St. Mariä Himmelfahrt 
REFRESH-INTERVAL;VALUE=DURATION:PT1H
X-Robots-Tag:noindex
X-PUBLISHED-TTL:PT1H
BEGIN:VTIMEZONE
TZID:Europe/Berlin
BEGIN:DAYLIGHT
TZOFFSETFROM:+0100
TZOFFSETTO:+0200
TZNAME:CEST
DTSTART:20250330T010000
END:DAYLIGHT
BEGIN:STANDARD
TZOFFSETFROM:+0200
TZOFFSETTO:+0100
TZNAME:CET
DTSTART:20251026T010000
END:STANDARD
BEGIN:DAYLIGHT
TZOFFSETFROM:+0100
TZOFFSETTO:+0200
TZNAME:CEST
DTSTART:20260329T010000
END:DAYLIGHT
BEGIN:STANDARD
TZOFFSETFROM:+0200
TZOFFSETTO:+0100
TZNAME:CET
DTSTART:20261025T010000
END:STANDARD
BEGIN:DAYLIGHT
TZOFFSETFROM:+0100
TZOFFSETTO:+0200
TZNAME:CEST
DTSTART:20270328T010000
END:DAYLIGHT
BEGIN:STANDARD
TZOFFSETFROM:+0200
TZOFFSETTO:+0100
TZNAME:CET
DTSTART:20271031T010000
END:STANDARD
END:VTIMEZONE
BEGIN:VEVENT
DTSTART;TZID=Europe/Berlin:20260405T100000
DTEND;TZID=Europe/Berlin:20260405T110000
DTSTAMP:20260425T153554
CREATED:20260323T161217Z
LAST-MODIFIED:20260323T161217Z
UID:3838-1775383200-1775386800@kirchengemeinde-marienthal.de
SUMMARY:Ostersonntag
DESCRIPTION:Festgottesdienst unter Mitwirkung des Kirchenchores
URL:https://kirchengemeinde-marienthal.de/event/ostersonntag-3/
LOCATION:Klosterkirche
CATEGORIES:Gottesdienste
END:VEVENT
BEGIN:VEVENT
DTSTART;TZID=Europe/Berlin:20260405T183000
DTEND;TZID=Europe/Berlin:20260405T193000
DTSTAMP:20260425T153554
CREATED:20260323T161413Z
LAST-MODIFIED:20260323T161413Z
UID:3841-1775413800-1775417400@kirchengemeinde-marienthal.de
SUMMARY:Ostervesper
DESCRIPTION:
URL:https://kirchengemeinde-marienthal.de/event/ostervesper-3/
LOCATION:Klosterkirche
CATEGORIES:Gottesdienste
END:VEVENT
END:VCALENDAR