BEGIN:VCALENDAR
VERSION:2.0
PRODID:-//St. Mariä Himmelfahrt  - ECPv6.15.20//NONSGML v1.0//EN
CALSCALE:GREGORIAN
METHOD:PUBLISH
X-ORIGINAL-URL:https://kirchengemeinde-marienthal.de
X-WR-CALDESC:Veranstaltungen für St. Mariä Himmelfahrt 
REFRESH-INTERVAL;VALUE=DURATION:PT1H
X-Robots-Tag:noindex
X-PUBLISHED-TTL:PT1H
BEGIN:VTIMEZONE
TZID:Europe/Berlin
BEGIN:DAYLIGHT
TZOFFSETFROM:+0100
TZOFFSETTO:+0200
TZNAME:CEST
DTSTART:20250330T010000
END:DAYLIGHT
BEGIN:STANDARD
TZOFFSETFROM:+0200
TZOFFSETTO:+0100
TZNAME:CET
DTSTART:20251026T010000
END:STANDARD
BEGIN:DAYLIGHT
TZOFFSETFROM:+0100
TZOFFSETTO:+0200
TZNAME:CEST
DTSTART:20260329T010000
END:DAYLIGHT
BEGIN:STANDARD
TZOFFSETFROM:+0200
TZOFFSETTO:+0100
TZNAME:CET
DTSTART:20261025T010000
END:STANDARD
BEGIN:DAYLIGHT
TZOFFSETFROM:+0100
TZOFFSETTO:+0200
TZNAME:CEST
DTSTART:20270328T010000
END:DAYLIGHT
BEGIN:STANDARD
TZOFFSETFROM:+0200
TZOFFSETTO:+0100
TZNAME:CET
DTSTART:20271031T010000
END:STANDARD
END:VTIMEZONE
BEGIN:VEVENT
DTSTART;TZID=Europe/Berlin:20260414T190000
DTEND;TZID=Europe/Berlin:20260414T210000
DTSTAMP:20260425T153909
CREATED:20260323T171757Z
LAST-MODIFIED:20260323T171757Z
UID:3865-1776193200-1776200400@kirchengemeinde-marienthal.de
SUMMARY:Gemeindeversammlung 2026
DESCRIPTION:Der Pfarreirat Marienthal lädt alle Gemeindemitglieder und Interessierte zur diesjährigen Gemeindeversammlung ein. Im Rahmen der Versammlung wird der Pfarreirat seine geplanten Aktivitäten vorstellen. Im Anschluss sollen allgemeine Themen rund um das Gemeindeleben diskutiert werden. \nBitte merken Sie sich den Termin bereits heute vor. \nWir freuen uns auf rege Teilnahme. \nPfarreirat Marienthal
URL:https://kirchengemeinde-marienthal.de/event/gemeindeversammlung-2026/
LOCATION:Pfarrheim
CATEGORIES:Veranstaltung
END:VEVENT
END:VCALENDAR