BEGIN:VCALENDAR
VERSION:2.0
PRODID:-//St. Mariä Himmelfahrt  - ECPv6.15.20//NONSGML v1.0//EN
CALSCALE:GREGORIAN
METHOD:PUBLISH
X-ORIGINAL-URL:https://kirchengemeinde-marienthal.de
X-WR-CALDESC:Veranstaltungen für St. Mariä Himmelfahrt 
REFRESH-INTERVAL;VALUE=DURATION:PT1H
X-Robots-Tag:noindex
X-PUBLISHED-TTL:PT1H
BEGIN:VTIMEZONE
TZID:Europe/Berlin
BEGIN:DAYLIGHT
TZOFFSETFROM:+0100
TZOFFSETTO:+0200
TZNAME:CEST
DTSTART:20240331T010000
END:DAYLIGHT
BEGIN:STANDARD
TZOFFSETFROM:+0200
TZOFFSETTO:+0100
TZNAME:CET
DTSTART:20241027T010000
END:STANDARD
BEGIN:DAYLIGHT
TZOFFSETFROM:+0100
TZOFFSETTO:+0200
TZNAME:CEST
DTSTART:20250330T010000
END:DAYLIGHT
BEGIN:STANDARD
TZOFFSETFROM:+0200
TZOFFSETTO:+0100
TZNAME:CET
DTSTART:20251026T010000
END:STANDARD
BEGIN:DAYLIGHT
TZOFFSETFROM:+0100
TZOFFSETTO:+0200
TZNAME:CEST
DTSTART:20260329T010000
END:DAYLIGHT
BEGIN:STANDARD
TZOFFSETFROM:+0200
TZOFFSETTO:+0100
TZNAME:CET
DTSTART:20261025T010000
END:STANDARD
END:VTIMEZONE
BEGIN:VEVENT
DTSTART;VALUE=DATE:20250927
DTEND;VALUE=DATE:20251003
DTSTAMP:20260425T220148
CREATED:20250731T145409Z
LAST-MODIFIED:20250731T145409Z
UID:3419-1758931200-1759449599@kirchengemeinde-marienthal.de
SUMMARY:Romfahrt der Pfarrgemeinde
DESCRIPTION:Begleitung durch Br. Luc
URL:https://kirchengemeinde-marienthal.de/event/romfahrt-der-pfarrgemeinde/
END:VEVENT
BEGIN:VEVENT
DTSTART;TZID=Europe/Berlin:20251005T100000
DTEND;TZID=Europe/Berlin:20251005T110000
DTSTAMP:20260425T220148
CREATED:20250928T094905Z
LAST-MODIFIED:20250928T094905Z
UID:3467-1759658400-1759662000@kirchengemeinde-marienthal.de
SUMMARY:Eucharistiefeier zum Erntedankfest
DESCRIPTION:
URL:https://kirchengemeinde-marienthal.de/event/eucharistiefeier-zum-erntedankfest/
LOCATION:Klosterkirche
CATEGORIES:Gottesdienste
END:VEVENT
BEGIN:VEVENT
DTSTART;TZID=Europe/Berlin:20251012T170000
DTEND;TZID=Europe/Berlin:20251012T190000
DTSTAMP:20260425T220148
CREATED:20250531T163631Z
LAST-MODIFIED:20250914T171407Z
UID:3326-1760288400-1760295600@kirchengemeinde-marienthal.de
SUMMARY:Konzert in der Klosterkirche
DESCRIPTION:Am 12.10.2025 um 17:00 Uhr lädt die kath. Kirchengemeinde Marienthal zu einem Kirchenkonzert in die Klosterkirche ein.\nDas Ensemble Amouné mit Sopranistin Judith Hoffmann sowie Dirk Wittfeld an der Trompete präsentiert Barocke Prachtmusik von Künstlern wie John Stanley oder Henry Purcell. Unterstützt wird das Ensemble durch Organist Horst Remmetz. \nDer Eintritt ist frei. \nWeitere Informationen über das Programm sowie über die Künstler finden Sie hier. \nVespermusik-12-10-25
URL:https://kirchengemeinde-marienthal.de/event/konzert-in-der-klosterkirche/
END:VEVENT
BEGIN:VEVENT
DTSTART;VALUE=DATE:20251013
DTEND;VALUE=DATE:20251018
DTSTAMP:20260425T220148
CREATED:20250731T145509Z
LAST-MODIFIED:20250928T092339Z
UID:3421-1760313600-1760745599@kirchengemeinde-marienthal.de
SUMMARY:Romreise der Messdiener
DESCRIPTION:Begleitung durch Br. Joshy
URL:https://kirchengemeinde-marienthal.de/event/romfahrt-der-pfarrgemeinde-2/
END:VEVENT
BEGIN:VEVENT
DTSTART;TZID=Europe/Berlin:20251021T150000
DTEND;TZID=Europe/Berlin:20251021T180000
DTSTAMP:20260425T220148
CREATED:20250928T101454Z
LAST-MODIFIED:20250928T101454Z
UID:3480-1761058800-1761069600@kirchengemeinde-marienthal.de
SUMMARY:Hl. Messe der Seniorengemeinschaft
DESCRIPTION:mit anschließender Erntedankfeier und Kaffeetrinken im Pfarrheim.
URL:https://kirchengemeinde-marienthal.de/event/hl-messe-der-seniorengemeinschaft-7/
LOCATION:Pfarrheim
CATEGORIES:Gottesdienste,Seniorengemeinschaft
END:VEVENT
BEGIN:VEVENT
DTSTART;TZID=Europe/Berlin:20251026T100000
DTEND;TZID=Europe/Berlin:20251026T110000
DTSTAMP:20260425T220148
CREATED:20250928T102955Z
LAST-MODIFIED:20250928T102955Z
UID:3487-1761472800-1761476400@kirchengemeinde-marienthal.de
SUMMARY:Eucharistiefeier und Abschied von Bruder Joshy
DESCRIPTION:unter Mitwirkung des Kirchenchores
URL:https://kirchengemeinde-marienthal.de/event/eucharistiefeier-und-abschied-von-bruder-joshy/
LOCATION:Klosterkirche
CATEGORIES:Gottesdienste
END:VEVENT
END:VCALENDAR