BEGIN:VCALENDAR
VERSION:2.0
PRODID:-//St. Mariä Himmelfahrt  - ECPv6.15.20//NONSGML v1.0//EN
CALSCALE:GREGORIAN
METHOD:PUBLISH
X-ORIGINAL-URL:https://kirchengemeinde-marienthal.de
X-WR-CALDESC:Veranstaltungen für St. Mariä Himmelfahrt 
REFRESH-INTERVAL;VALUE=DURATION:PT1H
X-Robots-Tag:noindex
X-PUBLISHED-TTL:PT1H
BEGIN:VTIMEZONE
TZID:Europe/Berlin
BEGIN:DAYLIGHT
TZOFFSETFROM:+0100
TZOFFSETTO:+0200
TZNAME:CEST
DTSTART:20240331T010000
END:DAYLIGHT
BEGIN:STANDARD
TZOFFSETFROM:+0200
TZOFFSETTO:+0100
TZNAME:CET
DTSTART:20241027T010000
END:STANDARD
BEGIN:DAYLIGHT
TZOFFSETFROM:+0100
TZOFFSETTO:+0200
TZNAME:CEST
DTSTART:20250330T010000
END:DAYLIGHT
BEGIN:STANDARD
TZOFFSETFROM:+0200
TZOFFSETTO:+0100
TZNAME:CET
DTSTART:20251026T010000
END:STANDARD
BEGIN:DAYLIGHT
TZOFFSETFROM:+0100
TZOFFSETTO:+0200
TZNAME:CEST
DTSTART:20260329T010000
END:DAYLIGHT
BEGIN:STANDARD
TZOFFSETFROM:+0200
TZOFFSETTO:+0100
TZNAME:CET
DTSTART:20261025T010000
END:STANDARD
END:VTIMEZONE
BEGIN:VEVENT
DTSTART;TZID=Europe/Berlin:20251101T100000
DTEND;TZID=Europe/Berlin:20251101T110000
DTSTAMP:20260425T205315
CREATED:20250928T095355Z
LAST-MODIFIED:20250928T095355Z
UID:3469-1761991200-1761994800@kirchengemeinde-marienthal.de
SUMMARY:Eucharistiefeier zum Fest Allerheiligen
DESCRIPTION:
URL:https://kirchengemeinde-marienthal.de/event/eucharistiefeier-zum-fest-allerheiligen-2/
LOCATION:Klosterkirche
CATEGORIES:Gottesdienste
END:VEVENT
BEGIN:VEVENT
DTSTART;TZID=Europe/Berlin:20251101T150000
DTEND;TZID=Europe/Berlin:20251101T160000
DTSTAMP:20260425T205315
CREATED:20250928T095622Z
LAST-MODIFIED:20250928T100444Z
UID:3471-1762009200-1762012800@kirchengemeinde-marienthal.de
SUMMARY:Gebet für die Verstorbenen und Segnung der Gräber auf dem Friedhof
DESCRIPTION:unter Mitwirkung des Kirchenchores
URL:https://kirchengemeinde-marienthal.de/event/gebet-fuer-die-verstorbenen-und-segnung-der-graeber-auf-dem-friedhof-unter-mitwirkung-des-kirchenchores/
LOCATION:Friedhof
CATEGORIES:Gottesdienste
END:VEVENT
BEGIN:VEVENT
DTSTART;TZID=Europe/Berlin:20251102T100000
DTEND;TZID=Europe/Berlin:20251102T110000
DTSTAMP:20260425T205315
CREATED:20250928T103143Z
LAST-MODIFIED:20250928T103143Z
UID:3489-1762077600-1762081200@kirchengemeinde-marienthal.de
SUMMARY:Eucharistiefeier zum Fest Allerseelen
DESCRIPTION:
URL:https://kirchengemeinde-marienthal.de/event/eucharistiefeier-zum-fest-allerseelen-2/
LOCATION:Klosterkirche
CATEGORIES:Gottesdienste
END:VEVENT
BEGIN:VEVENT
DTSTART;VALUE=DATE:20251108
DTEND;VALUE=DATE:20251110
DTSTAMP:20260425T205315
CREATED:20250531T163813Z
LAST-MODIFIED:20250928T104201Z
UID:3328-1762560000-1762732799@kirchengemeinde-marienthal.de
SUMMARY:Eierpunschverkauf auf dem Marienthaler Martinsmarkt
DESCRIPTION:Weitere Informationen finden Sie im Beitrag.
URL:https://kirchengemeinde-marienthal.de/event/eierpunschverkauf-auf-dem-marienthaler-martinsmarkt/
LOCATION:Kirchplatz
CATEGORIES:Veranstaltung
END:VEVENT
BEGIN:VEVENT
DTSTART;VALUE=DATE:20251108
DTEND;VALUE=DATE:20251110
DTSTAMP:20260425T205315
CREATED:20250928T110517Z
LAST-MODIFIED:20250928T110517Z
UID:3509-1762560000-1762732799@kirchengemeinde-marienthal.de
SUMMARY:JUMA - Stockbrot backen\, Martinslieder singen in der Jurte auf dem Martinsmarkt
DESCRIPTION:
URL:https://kirchengemeinde-marienthal.de/event/juma-stockbrot-backen-martinslieder-singen-in-der-jurte-auf-dem-martinsmarkt/
LOCATION:Kirchplatz
END:VEVENT
BEGIN:VEVENT
DTSTART;TZID=Europe/Berlin:20251108T173000
DTEND;TZID=Europe/Berlin:20251108T203000
DTSTAMP:20260425T205315
CREATED:20250330T161800Z
LAST-MODIFIED:20250505T154538Z
UID:3238-1762623000-1762633800@kirchengemeinde-marienthal.de
SUMMARY:Wahlen der Kirchenvorstände und Pfarreiräte 2025
DESCRIPTION:Weitere Informationen in den zugehörigen Beiträgen und im aktuellen Pfarrbrief.
URL:https://kirchengemeinde-marienthal.de/event/wahlen-der-kirchenvorstaende-und-pfarreiraete-2025/
LOCATION:Pfarrheim
END:VEVENT
BEGIN:VEVENT
DTSTART;TZID=Europe/Berlin:20251109T090000
DTEND;TZID=Europe/Berlin:20251109T130000
DTSTAMP:20260425T205315
CREATED:20250505T154502Z
LAST-MODIFIED:20250505T154548Z
UID:3256-1762678800-1762693200@kirchengemeinde-marienthal.de
SUMMARY:Wahlen der Kirchenvorstände und Pfarreiräte 2025
DESCRIPTION:Weitere Informationen in den zugehörigen Beiträgen und im aktuellen Pfarrbrief.
URL:https://kirchengemeinde-marienthal.de/event/wahlen-der-kirchenvorstaende-und-pfarreiraete-2025-2/
LOCATION:Pfarrheim
END:VEVENT
BEGIN:VEVENT
DTSTART;TZID=Europe/Berlin:20251114T180000
DTEND;TZID=Europe/Berlin:20251114T210000
DTSTAMP:20260425T205315
CREATED:20250531T163934Z
LAST-MODIFIED:20250928T102531Z
UID:3330-1763143200-1763154000@kirchengemeinde-marienthal.de
SUMMARY:Martinszug
DESCRIPTION:
URL:https://kirchengemeinde-marienthal.de/event/martinszug/
LOCATION:Kirchplatz
CATEGORIES:Veranstaltung
END:VEVENT
BEGIN:VEVENT
DTSTART;VALUE=DATE:20251116
DTEND;VALUE=DATE:20251117
DTSTAMP:20260425T205315
CREATED:20250928T111805Z
LAST-MODIFIED:20250928T111805Z
UID:3517-1763251200-1763337599@kirchengemeinde-marienthal.de
SUMMARY:Redaktionsschluss für den Weihnachts-Pfarrbrief
DESCRIPTION:
URL:https://kirchengemeinde-marienthal.de/event/redaktionsschluss-fuer-den-weihnachts-pfarrbrief/
END:VEVENT
BEGIN:VEVENT
DTSTART;TZID=Europe/Berlin:20251118T150000
DTEND;TZID=Europe/Berlin:20251118T180000
DTSTAMP:20260425T205315
CREATED:20250928T101659Z
LAST-MODIFIED:20250928T101659Z
UID:3482-1763478000-1763488800@kirchengemeinde-marienthal.de
SUMMARY:Hl. Messe der Seniorengemeinschaft
DESCRIPTION:mit anschließendem Kaffeetrinken im Pfarrheim
URL:https://kirchengemeinde-marienthal.de/event/hl-messe-der-seniorengemeinschaft-8/
LOCATION:Pfarrheim
CATEGORIES:Gottesdienste,Seniorengemeinschaft
END:VEVENT
BEGIN:VEVENT
DTSTART;TZID=Europe/Berlin:20251119T190000
DTEND;TZID=Europe/Berlin:20251119T203000
DTSTAMP:20260425T205315
CREATED:20250928T100110Z
LAST-MODIFIED:20250928T100110Z
UID:3473-1763578800-1763584200@kirchengemeinde-marienthal.de
SUMMARY:Ökumenischer Gottesdienst zum Buß- und Bettag
DESCRIPTION:unter Mitwirkung des Marienthaler Kirchenchores
URL:https://kirchengemeinde-marienthal.de/event/oekumenischer-gottesdienst-zum-buss-und-bettag/
LOCATION:Dorfkirche Brünen
CATEGORIES:Gottesdienste
END:VEVENT
BEGIN:VEVENT
DTSTART;TZID=Europe/Berlin:20251122T183000
DTEND;TZID=Europe/Berlin:20251122T193000
DTSTAMP:20260425T205315
CREATED:20250928T100611Z
LAST-MODIFIED:20250928T100611Z
UID:3476-1763836200-1763839800@kirchengemeinde-marienthal.de
SUMMARY:Vorabendmesse zum Cäcilienfest
DESCRIPTION:unter Mitwirkung des Kirchenchores
URL:https://kirchengemeinde-marienthal.de/event/vorabendmesse-zum-caecilienfest/
LOCATION:Klosterkirche
CATEGORIES:Gottesdienste
END:VEVENT
BEGIN:VEVENT
DTSTART;TZID=Europe/Berlin:20251129T150000
DTEND;TZID=Europe/Berlin:20251129T190000
DTSTAMP:20260425T205315
CREATED:20250928T111634Z
LAST-MODIFIED:20251129T121901Z
UID:3514-1764428400-1764442800@kirchengemeinde-marienthal.de
SUMMARY:Advent auf dem Dorfe
DESCRIPTION:In diesem Jahr wird in Marienthal zum ersten Mal eine große Glühweinhütte auf dem Dorfplatz aufgebaut. Sie bietet auch Platz für Stehtische im Inneren. An jedem Adventswochenende wird die Hütte von einem anderen Verein/Kirchengremium betrieben. An diesem 1. Adventwochenende ist die Pfarrgemeinde Marienthal an der Reihe.
URL:https://kirchengemeinde-marienthal.de/event/gluehweinverkauf-durch-den-pfarreirat-auf-dem-dorfplatz/
LOCATION:Dorfplatz Marienthal
END:VEVENT
BEGIN:VEVENT
DTSTART;TZID=Europe/Berlin:20251130T100000
DTEND;TZID=Europe/Berlin:20251130T110000
DTSTAMP:20260425T205315
CREATED:20250928T100700Z
LAST-MODIFIED:20250928T100700Z
UID:3478-1764496800-1764500400@kirchengemeinde-marienthal.de
SUMMARY:Eucharistiefeier zum 1. Advent
DESCRIPTION:
URL:https://kirchengemeinde-marienthal.de/event/eucharistiefeier-zum-1-advent-2/
LOCATION:Klosterkirche
CATEGORIES:Gottesdienste
END:VEVENT
BEGIN:VEVENT
DTSTART;TZID=Europe/Berlin:20251130T150000
DTEND;TZID=Europe/Berlin:20251130T190000
DTSTAMP:20260425T205315
CREATED:20251129T121313Z
LAST-MODIFIED:20251129T121846Z
UID:3567-1764514800-1764529200@kirchengemeinde-marienthal.de
SUMMARY:Advent auf dem Dorfe
DESCRIPTION:In diesem Jahr wird in Marienthal zum ersten Mal eine große Glühweinhütte auf dem Dorfplatz aufgebaut. Sie bietet auch Platz für Stehtische im Inneren. An jedem Adventswochenende wird die Hütte von einem anderen Verein/Kirchengremium betrieben. An diesem 1. Adventwochenende ist die Pfarrgemeinde Marienthal an der Reihe.
URL:https://kirchengemeinde-marienthal.de/event/advent-auf-dem-dorfe/
LOCATION:Dorfplatz Marienthal
END:VEVENT
BEGIN:VEVENT
DTSTART;TZID=Europe/Berlin:20251130T170000
DTEND;TZID=Europe/Berlin:20251130T180000
DTSTAMP:20260425T205315
CREATED:20250928T111024Z
LAST-MODIFIED:20251129T120328Z
UID:3511-1764522000-1764525600@kirchengemeinde-marienthal.de
SUMMARY:Sonntägliche Vespermusik - Adventliche Musik
DESCRIPTION:Am 30.11.2025 um 17:00 Uhr lädt die kath. Kirchengemeinde Marienthal zu einem Kirchenkonzert mit adventlicher Musik in die Klosterkirche ein. \nNähere Informationen finden Sie im zugehörigen Beitrag. \nEinlass ist um 16:30 Uhr. Der Eintritt ist frei; um Spenden wird gebeten.
URL:https://kirchengemeinde-marienthal.de/event/adventskonzert-in-der-klosterkirche/
LOCATION:Klosterkirche
END:VEVENT
END:VCALENDAR