BEGIN:VCALENDAR
VERSION:2.0
PRODID:-//St. Mariä Himmelfahrt  - ECPv6.15.20//NONSGML v1.0//EN
CALSCALE:GREGORIAN
METHOD:PUBLISH
X-ORIGINAL-URL:https://kirchengemeinde-marienthal.de
X-WR-CALDESC:Veranstaltungen für St. Mariä Himmelfahrt 
REFRESH-INTERVAL;VALUE=DURATION:PT1H
X-Robots-Tag:noindex
X-PUBLISHED-TTL:PT1H
BEGIN:VTIMEZONE
TZID:Europe/Berlin
BEGIN:DAYLIGHT
TZOFFSETFROM:+0100
TZOFFSETTO:+0200
TZNAME:CEST
DTSTART:20240331T010000
END:DAYLIGHT
BEGIN:STANDARD
TZOFFSETFROM:+0200
TZOFFSETTO:+0100
TZNAME:CET
DTSTART:20241027T010000
END:STANDARD
BEGIN:DAYLIGHT
TZOFFSETFROM:+0100
TZOFFSETTO:+0200
TZNAME:CEST
DTSTART:20250330T010000
END:DAYLIGHT
BEGIN:STANDARD
TZOFFSETFROM:+0200
TZOFFSETTO:+0100
TZNAME:CET
DTSTART:20251026T010000
END:STANDARD
BEGIN:DAYLIGHT
TZOFFSETFROM:+0100
TZOFFSETTO:+0200
TZNAME:CEST
DTSTART:20260329T010000
END:DAYLIGHT
BEGIN:STANDARD
TZOFFSETFROM:+0200
TZOFFSETTO:+0100
TZNAME:CET
DTSTART:20261025T010000
END:STANDARD
BEGIN:DAYLIGHT
TZOFFSETFROM:+0100
TZOFFSETTO:+0200
TZNAME:CEST
DTSTART:20270328T010000
END:DAYLIGHT
BEGIN:STANDARD
TZOFFSETFROM:+0200
TZOFFSETTO:+0100
TZNAME:CET
DTSTART:20271031T010000
END:STANDARD
END:VTIMEZONE
BEGIN:VEVENT
DTSTART;TZID=Europe/Berlin:20251202T160000
DTEND;TZID=Europe/Berlin:20251202T170000
DTSTAMP:20260425T193122
CREATED:20251129T150343Z
LAST-MODIFIED:20251129T155841Z
UID:3645-1764691200-1764694800@kirchengemeinde-marienthal.de
SUMMARY:Brüner + Marienthaler Adventskalender
DESCRIPTION:Seniorenwohnanlage Bossow-Haus\, Lühlerheim \nMarienthaler Straße 10\, Weselerwald
URL:https://kirchengemeinde-marienthal.de/event/bruener-und-marienthaler-adventskalender/
CATEGORIES:Veranstaltung
END:VEVENT
BEGIN:VEVENT
DTSTART;TZID=Europe/Berlin:20251204T170000
DTEND;TZID=Europe/Berlin:20251204T180000
DTSTAMP:20260425T193122
CREATED:20251129T150703Z
LAST-MODIFIED:20251129T150703Z
UID:3649-1764867600-1764871200@kirchengemeinde-marienthal.de
SUMMARY:Brüner + Marienthaler Adventskalender
DESCRIPTION:
URL:https://kirchengemeinde-marienthal.de/event/bruener-marienthaler-adventskalender/
LOCATION:Evangelische KiTa\, Rohstraße 18\, Brünen
CATEGORIES:Veranstaltung
END:VEVENT
BEGIN:VEVENT
DTSTART;TZID=Europe/Berlin:20251204T183000
DTEND;TZID=Europe/Berlin:20251204T193000
DTSTAMP:20260425T193122
CREATED:20251129T125355Z
LAST-MODIFIED:20251129T125355Z
UID:3602-1764873000-1764876600@kirchengemeinde-marienthal.de
SUMMARY:Eucharistiefeier Rorate (Adventsmesse bei Kerzenschein)
DESCRIPTION:
URL:https://kirchengemeinde-marienthal.de/event/eucharistiefeier-rorate-adventsmesse-bei-kerzenschein-2/
LOCATION:Klosterkirche
CATEGORIES:Gottesdienste
END:VEVENT
BEGIN:VEVENT
DTSTART;TZID=Europe/Berlin:20251205T150000
DTEND;TZID=Europe/Berlin:20251205T160000
DTSTAMP:20260425T193122
CREATED:20251129T131307Z
LAST-MODIFIED:20251129T131307Z
UID:3622-1764946800-1764950400@kirchengemeinde-marienthal.de
SUMMARY:Probe für das Krippenspiel
DESCRIPTION:
URL:https://kirchengemeinde-marienthal.de/event/probe-fuer-das-krippenspiel-5/
LOCATION:Klosterkirche
CATEGORIES:intern
END:VEVENT
BEGIN:VEVENT
DTSTART;TZID=Europe/Berlin:20251206T150000
DTEND;TZID=Europe/Berlin:20251206T190000
DTSTAMP:20260425T193122
CREATED:20251129T121556Z
LAST-MODIFIED:20251129T121830Z
UID:3569-1765033200-1765047600@kirchengemeinde-marienthal.de
SUMMARY:Advent auf dem Dorfe
DESCRIPTION:In diesem Jahr wird in Marienthal zum ersten Mal eine große Glühweinhütte auf dem Dorfplatz aufgebaut. Sie bietet auch Platz für Stehtische im Inneren. An jedem Adventswochenende wird die Hütte von einem anderen Verein/Kirchengremium betrieben. An diesem 2. Adventwochenende ist der Kulturverein Marienthal an der Reihe.
URL:https://kirchengemeinde-marienthal.de/event/advent-auf-dem-dorfe-2/
LOCATION:Dorfplatz Marienthal
END:VEVENT
BEGIN:VEVENT
DTSTART;TZID=Europe/Berlin:20251207T100000
DTEND;TZID=Europe/Berlin:20251207T110000
DTSTAMP:20260425T193122
CREATED:20251129T124022Z
LAST-MODIFIED:20251129T124022Z
UID:3589-1765101600-1765105200@kirchengemeinde-marienthal.de
SUMMARY:Eucharistiefeier zum 2. Advent
DESCRIPTION:
URL:https://kirchengemeinde-marienthal.de/event/eucharistiefeier-zum-2-advent/
LOCATION:Klosterkirche
CATEGORIES:Gottesdienste
END:VEVENT
BEGIN:VEVENT
DTSTART;TZID=Europe/Berlin:20251207T150000
DTEND;TZID=Europe/Berlin:20251207T190000
DTSTAMP:20260425T193122
CREATED:20251129T121638Z
LAST-MODIFIED:20251129T121815Z
UID:3572-1765119600-1765134000@kirchengemeinde-marienthal.de
SUMMARY:Advent auf dem Dorfe
DESCRIPTION:In diesem Jahr wird in Marienthal zum ersten Mal eine große Glühweinhütte auf dem Dorfplatz aufgebaut. Sie bietet auch Platz für Stehtische im Inneren. An jedem Adventswochenende wird die Hütte von einem anderen Verein/Kirchengremium betrieben. An diesem 2. Adventwochenende ist der Kulturverein Marienthal an der Reihe.
URL:https://kirchengemeinde-marienthal.de/event/advent-auf-dem-dorfe-3/
LOCATION:Dorfplatz Marienthal
END:VEVENT
BEGIN:VEVENT
DTSTART;TZID=Europe/Berlin:20251208T190000
DTEND;TZID=Europe/Berlin:20251208T200000
DTSTAMP:20260425T193122
CREATED:20251129T150917Z
LAST-MODIFIED:20251129T155455Z
UID:3652-1765220400-1765224000@kirchengemeinde-marienthal.de
SUMMARY:Brüner + Marienthaler Adventskalender
DESCRIPTION:Brüner Jäger\, \nAm Wispelt 8\, Brünen
URL:https://kirchengemeinde-marienthal.de/event/bruener-marienthaler-adventskalender-2/
CATEGORIES:Veranstaltung
END:VEVENT
BEGIN:VEVENT
DTSTART;TZID=Europe/Berlin:20251211T183000
DTEND;TZID=Europe/Berlin:20251211T193000
DTSTAMP:20260425T193122
CREATED:20251129T125433Z
LAST-MODIFIED:20251129T125433Z
UID:3604-1765477800-1765481400@kirchengemeinde-marienthal.de
SUMMARY:Eucharistiefeier Rorate (Adventsmesse bei Kerzenschein)
DESCRIPTION:
URL:https://kirchengemeinde-marienthal.de/event/eucharistiefeier-rorate-adventsmesse-bei-kerzenschein-3/
LOCATION:Klosterkirche
CATEGORIES:Gottesdienste
END:VEVENT
BEGIN:VEVENT
DTSTART;TZID=Europe/Berlin:20251211T183000
DTEND;TZID=Europe/Berlin:20251211T193000
DTSTAMP:20260425T193122
CREATED:20251129T151323Z
LAST-MODIFIED:20251129T155402Z
UID:3655-1765477800-1765481400@kirchengemeinde-marienthal.de
SUMMARY:Brüner + Marienthaler Adventkalender
DESCRIPTION:Mühlenbergweg 23\, Brünen
URL:https://kirchengemeinde-marienthal.de/event/bruener-marienthaler-adventkalender/
CATEGORIES:Veranstaltung
END:VEVENT
BEGIN:VEVENT
DTSTART;TZID=Europe/Berlin:20251212T150000
DTEND;TZID=Europe/Berlin:20251212T160000
DTSTAMP:20260425T193122
CREATED:20251129T131356Z
LAST-MODIFIED:20251129T131356Z
UID:3624-1765551600-1765555200@kirchengemeinde-marienthal.de
SUMMARY:Probe für das Krippenspiel
DESCRIPTION:
URL:https://kirchengemeinde-marienthal.de/event/probe-fuer-das-krippenspiel-6/
LOCATION:Klosterkirche
CATEGORIES:intern
END:VEVENT
BEGIN:VEVENT
DTSTART;TZID=Europe/Berlin:20251212T180000
DTEND;TZID=Europe/Berlin:20251212T190000
DTSTAMP:20260425T193122
CREATED:20251129T151642Z
LAST-MODIFIED:20251129T151642Z
UID:3658-1765562400-1765566000@kirchengemeinde-marienthal.de
SUMMARY:Brüner + Marienthaler Adventkalender
DESCRIPTION:Heimatverein Weselerwald und Umgebung e.V.\, \nan der „Düwelshütt“ (Wanderschutzhütte an der Ecke Malberger Str. /Am Teufelstein)
URL:https://kirchengemeinde-marienthal.de/event/bruener-marienthaler-adventkalender-2/
CATEGORIES:Veranstaltung
END:VEVENT
BEGIN:VEVENT
DTSTART;TZID=Europe/Berlin:20251213T100000
DTEND;TZID=Europe/Berlin:20251213T110000
DTSTAMP:20260425T193122
CREATED:20251129T153225Z
LAST-MODIFIED:20251129T155252Z
UID:3660-1765620000-1765623600@kirchengemeinde-marienthal.de
SUMMARY:Brüner + Marienthaler Adventskalender
DESCRIPTION:KinderKirche Brünen\, \nauf dem Brüner Bauernmarkt
URL:https://kirchengemeinde-marienthal.de/event/bruener-marienthaler-adventskalender-3/
CATEGORIES:Veranstaltung
END:VEVENT
BEGIN:VEVENT
DTSTART;TZID=Europe/Berlin:20251213T150000
DTEND;TZID=Europe/Berlin:20251213T190000
DTSTAMP:20260425T193122
CREATED:20251129T122045Z
LAST-MODIFIED:20251129T122045Z
UID:3580-1765638000-1765652400@kirchengemeinde-marienthal.de
SUMMARY:Advent auf dem Dorfe
DESCRIPTION:In diesem Jahr wird in Marienthal zum ersten Mal eine große Glühweinhütte auf dem Dorfplatz aufgebaut. Sie bietet auch Platz für Stehtische im Inneren. An jedem Adventswochenende wird die Hütte von einem anderen Verein/Kirchengremium betrieben. An diesem 3. Adventwochenende ist der Marienthaler Bürgerverein an der Reihe.
URL:https://kirchengemeinde-marienthal.de/event/advent-auf-dem-dorfe-4/
LOCATION:Dorfplatz Marienthal
ORGANIZER;CN="Marienthaler B%C3%BCrgerverein e.V.":MAILTO:info@marienthaler-buergerverein.de
END:VEVENT
BEGIN:VEVENT
DTSTART;TZID=Europe/Berlin:20251214T100000
DTEND;TZID=Europe/Berlin:20251214T110000
DTSTAMP:20260425T193122
CREATED:20251129T124156Z
LAST-MODIFIED:20251129T125040Z
UID:3591-1765706400-1765710000@kirchengemeinde-marienthal.de
SUMMARY:Eucharistiefeier zum 3. Advent
DESCRIPTION:Am 14.12. wollen wir gemeinsam unseren neuen Pater Lorenz o.Carm in einem Einführungsgottesdienst willkommen heißen. Auch die neu gewählten Mitglieder des Kirchenvorstands sowie des Pfarreirates stellen sich kurz vor. \nNachdem Gottesdienst laden wir zu einem kleinen Umtrunk im Kreuz-gang ein. Wir freuen uns auf zahlreiche Besucher! \n 
URL:https://kirchengemeinde-marienthal.de/event/eucharistiefeier-zum-3-advent/
LOCATION:Klosterkirche
CATEGORIES:Gottesdienste
END:VEVENT
BEGIN:VEVENT
DTSTART;TZID=Europe/Berlin:20251214T150000
DTEND;TZID=Europe/Berlin:20251214T190000
DTSTAMP:20260425T193122
CREATED:20251129T122135Z
LAST-MODIFIED:20251129T122135Z
UID:3582-1765724400-1765738800@kirchengemeinde-marienthal.de
SUMMARY:Advent auf dem Dorfe
DESCRIPTION:In diesem Jahr wird in Marienthal zum ersten Mal eine große Glühweinhütte auf dem Dorfplatz aufgebaut. Sie bietet auch Platz für Stehtische im Inneren. An jedem Adventswochenende wird die Hütte von einem anderen Verein/Kirchengremium betrieben. An diesem 3. Adventwochenende ist der Marienthaler Bürgerverein an der Reihe.
URL:https://kirchengemeinde-marienthal.de/event/advent-auf-dem-dorfe-5/
LOCATION:Dorfplatz Marienthal
ORGANIZER;CN="Marienthaler B%C3%BCrgerverein e.V.":MAILTO:info@marienthaler-buergerverein.de
END:VEVENT
BEGIN:VEVENT
DTSTART;TZID=Europe/Berlin:20251216T150000
DTEND;TZID=Europe/Berlin:20251216T170000
DTSTAMP:20260425T193122
CREATED:20251129T124740Z
LAST-MODIFIED:20251129T125723Z
UID:3596-1765897200-1765904400@kirchengemeinde-marienthal.de
SUMMARY:Hl. Messe der Seniorengemeinschaft
DESCRIPTION:mit Adventsfeier und Kaffeetrinken. Es werden adventliche Lieder gesungen. \n\nHinweis: Die heilige Messe für die Senioren im Januar muss leider entfallen.
URL:https://kirchengemeinde-marienthal.de/event/hl-messe-der-seniorengemeinschaft-9/
LOCATION:Pfarrheim
CATEGORIES:Seniorengemeinschaft
END:VEVENT
BEGIN:VEVENT
DTSTART;TZID=Europe/Berlin:20251217T183000
DTEND;TZID=Europe/Berlin:20251217T193000
DTSTAMP:20260425T193122
CREATED:20251129T154308Z
LAST-MODIFIED:20251129T155153Z
UID:3663-1765996200-1765999800@kirchengemeinde-marienthal.de
SUMMARY:Brüner + Marienthaler Adventskalender
DESCRIPTION:Zum Voshövel 10\, Brünen
URL:https://kirchengemeinde-marienthal.de/event/bruener-marienthaler-adventskalender-4/
CATEGORIES:Veranstaltung
END:VEVENT
BEGIN:VEVENT
DTSTART;TZID=Europe/Berlin:20251218T183000
DTEND;TZID=Europe/Berlin:20251218T193000
DTSTAMP:20260425T193122
CREATED:20251129T125504Z
LAST-MODIFIED:20251129T125504Z
UID:3606-1766082600-1766086200@kirchengemeinde-marienthal.de
SUMMARY:Eucharistiefeier Rorate (Adventsmesse bei Kerzenschein)
DESCRIPTION:
URL:https://kirchengemeinde-marienthal.de/event/eucharistiefeier-rorate-adventsmesse-bei-kerzenschein-4/
LOCATION:Klosterkirche
CATEGORIES:Gottesdienste
END:VEVENT
BEGIN:VEVENT
DTSTART;TZID=Europe/Berlin:20251219T150000
DTEND;TZID=Europe/Berlin:20251219T160000
DTSTAMP:20260425T193122
CREATED:20251129T131442Z
LAST-MODIFIED:20251129T131442Z
UID:3626-1766156400-1766160000@kirchengemeinde-marienthal.de
SUMMARY:Probe für das Krippenspiel
DESCRIPTION:
URL:https://kirchengemeinde-marienthal.de/event/probe-fuer-das-krippenspiel-7/
LOCATION:Klosterkirche
CATEGORIES:intern
END:VEVENT
BEGIN:VEVENT
DTSTART;TZID=Europe/Berlin:20251219T160000
DTEND;TZID=Europe/Berlin:20251219T173000
DTSTAMP:20260425T193122
CREATED:20251129T131730Z
LAST-MODIFIED:20251129T131730Z
UID:3628-1766160000-1766165400@kirchengemeinde-marienthal.de
SUMMARY:Vorbereitungstreffen Sternsinger
DESCRIPTION:Einkleidung\, Film-Info zum Thema der diesjährigen Aktion\, Lieder aus-wählen und einüben\, Sternsinger-Spruch üben.
URL:https://kirchengemeinde-marienthal.de/event/vorbereitungstreffen-sternsinger-3/
LOCATION:Pfarrheim
CATEGORIES:intern
END:VEVENT
BEGIN:VEVENT
DTSTART;TZID=Europe/Berlin:20251219T180000
DTEND;TZID=Europe/Berlin:20251219T190000
DTSTAMP:20260425T193122
CREATED:20251129T154535Z
LAST-MODIFIED:20251129T154535Z
UID:3667-1766167200-1766170800@kirchengemeinde-marienthal.de
SUMMARY:Brüner + Marienthaler Adventsfenster
DESCRIPTION:Bürgerverein Marienthal\, \nDorfplatz an der Remise
URL:https://kirchengemeinde-marienthal.de/event/bruener-marienthaler-adventsfenster/
CATEGORIES:Veranstaltung
END:VEVENT
BEGIN:VEVENT
DTSTART;TZID=Europe/Berlin:20251220T150000
DTEND;TZID=Europe/Berlin:20251220T190000
DTSTAMP:20260425T193122
CREATED:20251129T122515Z
LAST-MODIFIED:20251129T122515Z
UID:3584-1766242800-1766257200@kirchengemeinde-marienthal.de
SUMMARY:Advent auf dem Dorfe
DESCRIPTION:In diesem Jahr wird in Marienthal zum ersten Mal eine große Glühweinhütte auf dem Dorfplatz aufgebaut. Sie bietet auch Platz für Stehtische im Inneren. An jedem Adventswochenende wird die Hütte von einem anderen Verein/Kirchengremium betrieben. An diesem 4. Adventwochenende sind die Marienthaler Kaufleute an der Reihe.
URL:https://kirchengemeinde-marienthal.de/event/advent-auf-dem-dorfe-6/
LOCATION:Dorfplatz Marienthal
ORGANIZER;CN="Marienthaler Kaufleute e.V.":MAILTO:hartmann_kaufleute@web.de
END:VEVENT
BEGIN:VEVENT
DTSTART;TZID=Europe/Berlin:20251221T100000
DTEND;TZID=Europe/Berlin:20251221T110000
DTSTAMP:20260425T193122
CREATED:20251129T124349Z
LAST-MODIFIED:20251129T124349Z
UID:3594-1766311200-1766314800@kirchengemeinde-marienthal.de
SUMMARY:Eucharistiefeier zum 4. Advent
DESCRIPTION:
URL:https://kirchengemeinde-marienthal.de/event/eucharistiefeier-zum-4-advent-2/
LOCATION:Klosterkirche
END:VEVENT
BEGIN:VEVENT
DTSTART;TZID=Europe/Berlin:20251221T150000
DTEND;TZID=Europe/Berlin:20251221T190000
DTSTAMP:20260425T193122
CREATED:20251129T122747Z
LAST-MODIFIED:20251129T122747Z
UID:3587-1766329200-1766343600@kirchengemeinde-marienthal.de
SUMMARY:Advent auf dem Dorfe
DESCRIPTION:In diesem Jahr wird in Marienthal zum ersten Mal eine große Glühweinhütte auf dem Dorfplatz aufgebaut. Sie bietet auch Platz für Stehtische im Inneren. An jedem Adventswochenende wird die Hütte von einem anderen Verein/Kirchengremium betrieben. An diesem 4. Adventwochenende sind die Marienthaler Kaufleute an der Reihe.
URL:https://kirchengemeinde-marienthal.de/event/advent-auf-dem-dorfe-7/
LOCATION:Dorfplatz Marienthal
ORGANIZER;CN="Marienthaler Kaufleute e.V.":MAILTO:hartmann_kaufleute@web.de
END:VEVENT
BEGIN:VEVENT
DTSTART;TZID=Europe/Berlin:20251221T170000
DTEND;TZID=Europe/Berlin:20251221T180000
DTSTAMP:20260425T193122
CREATED:20251129T155015Z
LAST-MODIFIED:20251129T155015Z
UID:3669-1766336400-1766340000@kirchengemeinde-marienthal.de
SUMMARY:Brüner + Marienthaler Adventsfenster
DESCRIPTION:Schützenverein Havelich\, \nFestscheune\, Isseltalweg 9\, Havelich
URL:https://kirchengemeinde-marienthal.de/event/bruener-marienthaler-adventsfenster-2/
CATEGORIES:Veranstaltung
END:VEVENT
BEGIN:VEVENT
DTSTART;TZID=Europe/Berlin:20251224T160000
DTEND;TZID=Europe/Berlin:20251224T170000
DTSTAMP:20260425T193122
CREATED:20251129T125640Z
LAST-MODIFIED:20251129T125935Z
UID:3608-1766592000-1766595600@kirchengemeinde-marienthal.de
SUMMARY:Heiligabend
DESCRIPTION:Wortgottesdienst mit Krippenspiel
URL:https://kirchengemeinde-marienthal.de/event/heilgabend/
LOCATION:Klosterkirche
CATEGORIES:Gottesdienste
END:VEVENT
BEGIN:VEVENT
DTSTART;TZID=Europe/Berlin:20251224T190000
DTEND;TZID=Europe/Berlin:20251224T200000
DTSTAMP:20260425T193122
CREATED:20251129T125911Z
LAST-MODIFIED:20251129T130143Z
UID:3610-1766602800-1766606400@kirchengemeinde-marienthal.de
SUMMARY:Heiligabend
DESCRIPTION:Christmette
URL:https://kirchengemeinde-marienthal.de/event/christmette/
LOCATION:Klosterkirche
CATEGORIES:Gottesdienste
END:VEVENT
BEGIN:VEVENT
DTSTART;TZID=Europe/Berlin:20251225T100000
DTEND;TZID=Europe/Berlin:20251225T110000
DTSTAMP:20260425T193122
CREATED:20251129T130334Z
LAST-MODIFIED:20251129T130334Z
UID:3614-1766656800-1766660400@kirchengemeinde-marienthal.de
SUMMARY:1. Weihnachtstag
DESCRIPTION:Feierliches Hochamt (unter Mitwirkung des Kirchenchores)
URL:https://kirchengemeinde-marienthal.de/event/1-weihnachtstag-3/
LOCATION:Klosterkirche
CATEGORIES:Gottesdienste
END:VEVENT
BEGIN:VEVENT
DTSTART;TZID=Europe/Berlin:20251226T100000
DTEND;TZID=Europe/Berlin:20260123T110000
DTSTAMP:20260425T193122
CREATED:20251129T130444Z
LAST-MODIFIED:20251129T130444Z
UID:3616-1766743200-1769166000@kirchengemeinde-marienthal.de
SUMMARY:2. Weihnachtstag (Fest des Hl. Stephanus)
DESCRIPTION:
URL:https://kirchengemeinde-marienthal.de/event/2-weihnachtstag-fest-des-hl-stephanus-2/
LOCATION:Klosterkirche
CATEGORIES:Gottesdienste
END:VEVENT
END:VCALENDAR