BEGIN:VCALENDAR
VERSION:2.0
PRODID:-//St. Mariä Himmelfahrt  - ECPv6.15.20//NONSGML v1.0//EN
CALSCALE:GREGORIAN
METHOD:PUBLISH
X-WR-CALNAME:St. Mariä Himmelfahrt 
X-ORIGINAL-URL:https://kirchengemeinde-marienthal.de
X-WR-CALDESC:Veranstaltungen für St. Mariä Himmelfahrt 
REFRESH-INTERVAL;VALUE=DURATION:PT1H
X-Robots-Tag:noindex
X-PUBLISHED-TTL:PT1H
BEGIN:VTIMEZONE
TZID:Europe/Berlin
BEGIN:DAYLIGHT
TZOFFSETFROM:+0100
TZOFFSETTO:+0200
TZNAME:CEST
DTSTART:20250330T010000
END:DAYLIGHT
BEGIN:STANDARD
TZOFFSETFROM:+0200
TZOFFSETTO:+0100
TZNAME:CET
DTSTART:20251026T010000
END:STANDARD
BEGIN:DAYLIGHT
TZOFFSETFROM:+0100
TZOFFSETTO:+0200
TZNAME:CEST
DTSTART:20260329T010000
END:DAYLIGHT
BEGIN:STANDARD
TZOFFSETFROM:+0200
TZOFFSETTO:+0100
TZNAME:CET
DTSTART:20261025T010000
END:STANDARD
BEGIN:DAYLIGHT
TZOFFSETFROM:+0100
TZOFFSETTO:+0200
TZNAME:CEST
DTSTART:20270328T010000
END:DAYLIGHT
BEGIN:STANDARD
TZOFFSETFROM:+0200
TZOFFSETTO:+0100
TZNAME:CET
DTSTART:20271031T010000
END:STANDARD
END:VTIMEZONE
BEGIN:VEVENT
DTSTART;TZID=Europe/Berlin:20260301T100000
DTEND;TZID=Europe/Berlin:20260301T110000
DTSTAMP:20260425T154541
CREATED:20260126T175610Z
LAST-MODIFIED:20260126T175610Z
UID:3769-1772359200-1772362800@kirchengemeinde-marienthal.de
SUMMARY:2. Fastensonntag
DESCRIPTION:Eucharistiefeier
URL:https://kirchengemeinde-marienthal.de/event/2-fastensonntag/
LOCATION:Klosterkirche
CATEGORIES:Gottesdienste
END:VEVENT
BEGIN:VEVENT
DTSTART;TZID=Europe/Berlin:20260308T100000
DTEND;TZID=Europe/Berlin:20260308T110000
DTSTAMP:20260425T154541
CREATED:20260126T175656Z
LAST-MODIFIED:20260126T175656Z
UID:3771-1772964000-1772967600@kirchengemeinde-marienthal.de
SUMMARY:3. Fastensonntag
DESCRIPTION:Eucharistiefeier
URL:https://kirchengemeinde-marienthal.de/event/3-fastensonntag/
LOCATION:Klosterkirche
CATEGORIES:Gottesdienste
END:VEVENT
BEGIN:VEVENT
DTSTART;VALUE=DATE:20260315
DTEND;VALUE=DATE:20260316
DTSTAMP:20260425T154541
CREATED:20260126T185722Z
LAST-MODIFIED:20260126T185722Z
UID:3799-1773532800-1773619199@kirchengemeinde-marienthal.de
SUMMARY:Redaktionsschluss für den Oster-Pfarrbrief
DESCRIPTION:Bitte Beiträge und Termine bis dahin an die Pfarrbrief-Redaktion: \npfarrbrief@kirchengemeinde-marienthal.de
URL:https://kirchengemeinde-marienthal.de/event/redaktionsschluss-fuer-den-oster-pfarrbrief-2/
CATEGORIES:intern,Pfarrnachrichten
END:VEVENT
BEGIN:VEVENT
DTSTART;TZID=Europe/Berlin:20260315T100000
DTEND;TZID=Europe/Berlin:20260315T110000
DTSTAMP:20260425T154541
CREATED:20260126T175742Z
LAST-MODIFIED:20260126T175742Z
UID:3773-1773568800-1773572400@kirchengemeinde-marienthal.de
SUMMARY:4. Fastensonntag
DESCRIPTION:Eucharistiefeier
URL:https://kirchengemeinde-marienthal.de/event/4-fastensonntag-2/
LOCATION:Klosterkirche
CATEGORIES:Gottesdienste
END:VEVENT
BEGIN:VEVENT
DTSTART;TZID=Europe/Berlin:20260317T150000
DTEND;TZID=Europe/Berlin:20260317T180000
DTSTAMP:20260425T154541
CREATED:20260126T175949Z
LAST-MODIFIED:20260126T175949Z
UID:3777-1773759600-1773770400@kirchengemeinde-marienthal.de
SUMMARY:Heilige Messe der Seniorengemeinschaft
DESCRIPTION:mit anschließendem Kaffeetrinken.
URL:https://kirchengemeinde-marienthal.de/event/heilige-messe-der-seniorengemeinschaft-11/
LOCATION:Pfarrheim
CATEGORIES:Gottesdienste,Seniorengemeinschaft
END:VEVENT
BEGIN:VEVENT
DTSTART;TZID=Europe/Berlin:20260322T100000
DTEND;TZID=Europe/Berlin:20260322T110000
DTSTAMP:20260425T154541
CREATED:20260126T175828Z
LAST-MODIFIED:20260126T175828Z
UID:3775-1774173600-1774177200@kirchengemeinde-marienthal.de
SUMMARY:5. Fastensonntag
DESCRIPTION:Eucharistiefeier
URL:https://kirchengemeinde-marienthal.de/event/5-fastensonntag/
LOCATION:Klosterkirche
CATEGORIES:Gottesdienste
END:VEVENT
BEGIN:VEVENT
DTSTART;TZID=Europe/Berlin:20260327T160000
DTEND;TZID=Europe/Berlin:20260327T180000
DTSTAMP:20260425T154541
CREATED:20260126T185411Z
LAST-MODIFIED:20260126T185515Z
UID:3795-1774627200-1774634400@kirchengemeinde-marienthal.de
SUMMARY:Palmstockbasteln 2026
DESCRIPTION:Weitere Infos findet Ihr im Beitrag!
URL:https://kirchengemeinde-marienthal.de/event/palmstockbasteln-2026/
LOCATION:Pfarrheim
CATEGORIES:JuMa,Veranstaltung
END:VEVENT
BEGIN:VEVENT
DTSTART;TZID=Europe/Berlin:20260329T100000
DTEND;TZID=Europe/Berlin:20260329T110000
DTSTAMP:20260425T154541
CREATED:20260126T180102Z
LAST-MODIFIED:20260323T160313Z
UID:3779-1774778400-1774782000@kirchengemeinde-marienthal.de
SUMMARY:Palmsonntag
DESCRIPTION:Wir versammeln uns zu Beginn an der Friedhofskapelle hinter der Kirche. Dort werden die Palmzweige gesegnet. \nAnschließend ziehen wir zur Eucharistiefeier in die Kirche. \nEs singt der Kirchenchor Marienthal.
URL:https://kirchengemeinde-marienthal.de/event/palmsonntag-2/
LOCATION:Klosterkirche
CATEGORIES:Gottesdienste
END:VEVENT
END:VCALENDAR